BEGIN:VCALENDAR
VERSION:2.0
PRODID:-//L&#039;atelier FICA - ECPv6.15.20//NONSGML v1.0//EN
CALSCALE:GREGORIAN
METHOD:PUBLISH
X-ORIGINAL-URL:https://atelierfica.org
X-WR-CALDESC:Évènements pour L&#039;atelier FICA
REFRESH-INTERVAL;VALUE=DURATION:PT1H
X-Robots-Tag:noindex
X-PUBLISHED-TTL:PT1H
BEGIN:VTIMEZONE
TZID:Europe/Paris
BEGIN:DAYLIGHT
TZOFFSETFROM:+0100
TZOFFSETTO:+0200
TZNAME:CEST
DTSTART:20250330T010000
END:DAYLIGHT
BEGIN:STANDARD
TZOFFSETFROM:+0200
TZOFFSETTO:+0100
TZNAME:CET
DTSTART:20251026T010000
END:STANDARD
BEGIN:DAYLIGHT
TZOFFSETFROM:+0100
TZOFFSETTO:+0200
TZNAME:CEST
DTSTART:20260329T010000
END:DAYLIGHT
BEGIN:STANDARD
TZOFFSETFROM:+0200
TZOFFSETTO:+0100
TZNAME:CET
DTSTART:20261025T010000
END:STANDARD
BEGIN:DAYLIGHT
TZOFFSETFROM:+0100
TZOFFSETTO:+0200
TZNAME:CEST
DTSTART:20270328T010000
END:DAYLIGHT
BEGIN:STANDARD
TZOFFSETFROM:+0200
TZOFFSETTO:+0100
TZNAME:CET
DTSTART:20271031T010000
END:STANDARD
END:VTIMEZONE
BEGIN:VEVENT
DTSTART;TZID=Europe/Paris:20260501T181500
DTEND;TZID=Europe/Paris:20260501T200000
DTSTAMP:20260425T180018
CREATED:20260203T084035Z
LAST-MODIFIED:20260203T084035Z
UID:10010990-1777659300-1777665600@atelierfica.org
SUMMARY:Atelier Musique
DESCRIPTION:Juste pour le plaisir de jouer à plusieurs\, pour ressortir nos instruments\, pour chanter\, pour écouter\, pour essayer de nouveaux instruments… \nInstallation des musiciens et accueil des nouveaux arrivants 18h\, \nLivrets de partitions/chants sur place \nEt en ligne pour s’entrainer : https://atelierfica.org/fiches-ateliers/atelier-musique \nPartagez ce contenu !
URL:https://atelierfica.org/evenement/atelier-musique-35-2/2026-05-01
LOCATION:Local FICA\, 44 rue de Genève\, meximieux\, 01800\, France
CATEGORIES:Musique
ATTACH;FMTTYPE=image/png:https://atelierfica.org/wp-content/uploads/2024/03/18.png
END:VEVENT
BEGIN:VEVENT
DTSTART;TZID=Europe/Paris:20260504T140000
DTEND;TZID=Europe/Paris:20260504T160000
DTSTAMP:20260425T180018
CREATED:20260320T142515Z
LAST-MODIFIED:20260320T143404Z
UID:10011373-1777903200-1777910400@atelierfica.org
SUMMARY:Musicos du lundi
DESCRIPTION:La bulle musicale du lundi\, c’est travailler un morceau de musique en groupe. \nUn morceau travaillé en détail sur plusieurs sessions. \nPartagez ce contenu !
URL:https://atelierfica.org/evenement/bulle-musicale-du-lundi-2/2026-05-04
LOCATION:Local FICA\, 44 rue de Genève\, meximieux\, 01800\, France
CATEGORIES:Musique
ATTACH;FMTTYPE=image/png:https://atelierfica.org/wp-content/uploads/2024/03/18.png
END:VEVENT
BEGIN:VEVENT
DTSTART;TZID=Europe/Paris:20260508T181500
DTEND;TZID=Europe/Paris:20260508T200000
DTSTAMP:20260425T180018
CREATED:20260203T084035Z
LAST-MODIFIED:20260203T084035Z
UID:10010991-1778264100-1778270400@atelierfica.org
SUMMARY:Atelier Musique
DESCRIPTION:Juste pour le plaisir de jouer à plusieurs\, pour ressortir nos instruments\, pour chanter\, pour écouter\, pour essayer de nouveaux instruments… \nInstallation des musiciens et accueil des nouveaux arrivants 18h\, \nLivrets de partitions/chants sur place \nEt en ligne pour s’entrainer : https://atelierfica.org/fiches-ateliers/atelier-musique \nPartagez ce contenu !
URL:https://atelierfica.org/evenement/atelier-musique-35-2/2026-05-08
LOCATION:Local FICA\, 44 rue de Genève\, meximieux\, 01800\, France
CATEGORIES:Musique
ATTACH;FMTTYPE=image/png:https://atelierfica.org/wp-content/uploads/2024/03/18.png
END:VEVENT
BEGIN:VEVENT
DTSTART;TZID=Europe/Paris:20260511T140000
DTEND;TZID=Europe/Paris:20260511T160000
DTSTAMP:20260425T180018
CREATED:20260320T142515Z
LAST-MODIFIED:20260320T143404Z
UID:10011374-1778508000-1778515200@atelierfica.org
SUMMARY:Musicos du lundi
DESCRIPTION:La bulle musicale du lundi\, c’est travailler un morceau de musique en groupe. \nUn morceau travaillé en détail sur plusieurs sessions. \nPartagez ce contenu !
URL:https://atelierfica.org/evenement/bulle-musicale-du-lundi-2/2026-05-11
LOCATION:Local FICA\, 44 rue de Genève\, meximieux\, 01800\, France
CATEGORIES:Musique
ATTACH;FMTTYPE=image/png:https://atelierfica.org/wp-content/uploads/2024/03/18.png
END:VEVENT
BEGIN:VEVENT
DTSTART;TZID=Europe/Paris:20260515T181500
DTEND;TZID=Europe/Paris:20260515T200000
DTSTAMP:20260425T180018
CREATED:20260203T084035Z
LAST-MODIFIED:20260203T084035Z
UID:10010992-1778868900-1778875200@atelierfica.org
SUMMARY:Atelier Musique
DESCRIPTION:Juste pour le plaisir de jouer à plusieurs\, pour ressortir nos instruments\, pour chanter\, pour écouter\, pour essayer de nouveaux instruments… \nInstallation des musiciens et accueil des nouveaux arrivants 18h\, \nLivrets de partitions/chants sur place \nEt en ligne pour s’entrainer : https://atelierfica.org/fiches-ateliers/atelier-musique \nPartagez ce contenu !
URL:https://atelierfica.org/evenement/atelier-musique-35-2/2026-05-15
LOCATION:Local FICA\, 44 rue de Genève\, meximieux\, 01800\, France
CATEGORIES:Musique
ATTACH;FMTTYPE=image/png:https://atelierfica.org/wp-content/uploads/2024/03/18.png
END:VEVENT
BEGIN:VEVENT
DTSTART;TZID=Europe/Paris:20260518T140000
DTEND;TZID=Europe/Paris:20260518T160000
DTSTAMP:20260425T180018
CREATED:20260320T142515Z
LAST-MODIFIED:20260320T143404Z
UID:10011375-1779112800-1779120000@atelierfica.org
SUMMARY:Musicos du lundi
DESCRIPTION:La bulle musicale du lundi\, c’est travailler un morceau de musique en groupe. \nUn morceau travaillé en détail sur plusieurs sessions. \nPartagez ce contenu !
URL:https://atelierfica.org/evenement/bulle-musicale-du-lundi-2/2026-05-18
LOCATION:Local FICA\, 44 rue de Genève\, meximieux\, 01800\, France
CATEGORIES:Musique
ATTACH;FMTTYPE=image/png:https://atelierfica.org/wp-content/uploads/2024/03/18.png
END:VEVENT
BEGIN:VEVENT
DTSTART;TZID=Europe/Paris:20260522T181500
DTEND;TZID=Europe/Paris:20260522T200000
DTSTAMP:20260425T180018
CREATED:20260203T084035Z
LAST-MODIFIED:20260203T084035Z
UID:10010993-1779473700-1779480000@atelierfica.org
SUMMARY:Atelier Musique
DESCRIPTION:Juste pour le plaisir de jouer à plusieurs\, pour ressortir nos instruments\, pour chanter\, pour écouter\, pour essayer de nouveaux instruments… \nInstallation des musiciens et accueil des nouveaux arrivants 18h\, \nLivrets de partitions/chants sur place \nEt en ligne pour s’entrainer : https://atelierfica.org/fiches-ateliers/atelier-musique \nPartagez ce contenu !
URL:https://atelierfica.org/evenement/atelier-musique-35-2/2026-05-22
LOCATION:Local FICA\, 44 rue de Genève\, meximieux\, 01800\, France
CATEGORIES:Musique
ATTACH;FMTTYPE=image/png:https://atelierfica.org/wp-content/uploads/2024/03/18.png
END:VEVENT
BEGIN:VEVENT
DTSTART;TZID=Europe/Paris:20260525T140000
DTEND;TZID=Europe/Paris:20260525T160000
DTSTAMP:20260425T180018
CREATED:20260320T142515Z
LAST-MODIFIED:20260320T143404Z
UID:10011376-1779717600-1779724800@atelierfica.org
SUMMARY:Musicos du lundi
DESCRIPTION:La bulle musicale du lundi\, c’est travailler un morceau de musique en groupe. \nUn morceau travaillé en détail sur plusieurs sessions. \nPartagez ce contenu !
URL:https://atelierfica.org/evenement/bulle-musicale-du-lundi-2/2026-05-25
LOCATION:Local FICA\, 44 rue de Genève\, meximieux\, 01800\, France
CATEGORIES:Musique
ATTACH;FMTTYPE=image/png:https://atelierfica.org/wp-content/uploads/2024/03/18.png
END:VEVENT
BEGIN:VEVENT
DTSTART;TZID=Europe/Paris:20260529T181500
DTEND;TZID=Europe/Paris:20260529T200000
DTSTAMP:20260425T180018
CREATED:20260203T084035Z
LAST-MODIFIED:20260203T084035Z
UID:10010994-1780078500-1780084800@atelierfica.org
SUMMARY:Atelier Musique
DESCRIPTION:Juste pour le plaisir de jouer à plusieurs\, pour ressortir nos instruments\, pour chanter\, pour écouter\, pour essayer de nouveaux instruments… \nInstallation des musiciens et accueil des nouveaux arrivants 18h\, \nLivrets de partitions/chants sur place \nEt en ligne pour s’entrainer : https://atelierfica.org/fiches-ateliers/atelier-musique \nPartagez ce contenu !
URL:https://atelierfica.org/evenement/atelier-musique-35-2/2026-05-29
LOCATION:Local FICA\, 44 rue de Genève\, meximieux\, 01800\, France
CATEGORIES:Musique
ATTACH;FMTTYPE=image/png:https://atelierfica.org/wp-content/uploads/2024/03/18.png
END:VEVENT
END:VCALENDAR