BEGIN:VCALENDAR
VERSION:2.0
PRODID:-//L&#039;atelier FICA - ECPv6.15.20//NONSGML v1.0//EN
CALSCALE:GREGORIAN
METHOD:PUBLISH
X-ORIGINAL-URL:https://atelierfica.org
X-WR-CALDESC:Évènements pour L&#039;atelier FICA
REFRESH-INTERVAL;VALUE=DURATION:PT1H
X-Robots-Tag:noindex
X-PUBLISHED-TTL:PT1H
BEGIN:VTIMEZONE
TZID:Europe/Paris
BEGIN:DAYLIGHT
TZOFFSETFROM:+0100
TZOFFSETTO:+0200
TZNAME:CEST
DTSTART:20250330T010000
END:DAYLIGHT
BEGIN:STANDARD
TZOFFSETFROM:+0200
TZOFFSETTO:+0100
TZNAME:CET
DTSTART:20251026T010000
END:STANDARD
BEGIN:DAYLIGHT
TZOFFSETFROM:+0100
TZOFFSETTO:+0200
TZNAME:CEST
DTSTART:20260329T010000
END:DAYLIGHT
BEGIN:STANDARD
TZOFFSETFROM:+0200
TZOFFSETTO:+0100
TZNAME:CET
DTSTART:20261025T010000
END:STANDARD
BEGIN:DAYLIGHT
TZOFFSETFROM:+0100
TZOFFSETTO:+0200
TZNAME:CEST
DTSTART:20270328T010000
END:DAYLIGHT
BEGIN:STANDARD
TZOFFSETFROM:+0200
TZOFFSETTO:+0100
TZNAME:CET
DTSTART:20271031T010000
END:STANDARD
END:VTIMEZONE
BEGIN:VEVENT
DTSTART;TZID=Europe/Paris:20260601T140000
DTEND;TZID=Europe/Paris:20260601T160000
DTSTAMP:20260425T194933
CREATED:20260320T142515Z
LAST-MODIFIED:20260320T143404Z
UID:10011377-1780322400-1780329600@atelierfica.org
SUMMARY:Musicos du lundi
DESCRIPTION:La bulle musicale du lundi\, c’est travailler un morceau de musique en groupe. \nUn morceau travaillé en détail sur plusieurs sessions. \nPartagez ce contenu !
URL:https://atelierfica.org/evenement/bulle-musicale-du-lundi-2/2026-06-01
LOCATION:Local FICA\, 44 rue de Genève\, meximieux\, 01800\, France
CATEGORIES:Musique
ATTACH;FMTTYPE=image/png:https://atelierfica.org/wp-content/uploads/2024/03/18.png
END:VEVENT
BEGIN:VEVENT
DTSTART;TZID=Europe/Paris:20260605T181500
DTEND;TZID=Europe/Paris:20260605T200000
DTSTAMP:20260425T194933
CREATED:20260203T084035Z
LAST-MODIFIED:20260203T084035Z
UID:10010995-1780683300-1780689600@atelierfica.org
SUMMARY:Atelier Musique
DESCRIPTION:Juste pour le plaisir de jouer à plusieurs\, pour ressortir nos instruments\, pour chanter\, pour écouter\, pour essayer de nouveaux instruments… \nInstallation des musiciens et accueil des nouveaux arrivants 18h\, \nLivrets de partitions/chants sur place \nEt en ligne pour s’entrainer : https://atelierfica.org/fiches-ateliers/atelier-musique \nPartagez ce contenu !
URL:https://atelierfica.org/evenement/atelier-musique-35-2/2026-06-05
LOCATION:Local FICA\, 44 rue de Genève\, meximieux\, 01800\, France
CATEGORIES:Musique
ATTACH;FMTTYPE=image/png:https://atelierfica.org/wp-content/uploads/2024/03/18.png
END:VEVENT
BEGIN:VEVENT
DTSTART;TZID=Europe/Paris:20260608T140000
DTEND;TZID=Europe/Paris:20260608T160000
DTSTAMP:20260425T194933
CREATED:20260320T142515Z
LAST-MODIFIED:20260320T143404Z
UID:10011378-1780927200-1780934400@atelierfica.org
SUMMARY:Musicos du lundi
DESCRIPTION:La bulle musicale du lundi\, c’est travailler un morceau de musique en groupe. \nUn morceau travaillé en détail sur plusieurs sessions. \nPartagez ce contenu !
URL:https://atelierfica.org/evenement/bulle-musicale-du-lundi-2/2026-06-08
LOCATION:Local FICA\, 44 rue de Genève\, meximieux\, 01800\, France
CATEGORIES:Musique
ATTACH;FMTTYPE=image/png:https://atelierfica.org/wp-content/uploads/2024/03/18.png
END:VEVENT
BEGIN:VEVENT
DTSTART;TZID=Europe/Paris:20260612T181500
DTEND;TZID=Europe/Paris:20260612T200000
DTSTAMP:20260425T194933
CREATED:20260203T084035Z
LAST-MODIFIED:20260203T084035Z
UID:10010996-1781288100-1781294400@atelierfica.org
SUMMARY:Atelier Musique
DESCRIPTION:Juste pour le plaisir de jouer à plusieurs\, pour ressortir nos instruments\, pour chanter\, pour écouter\, pour essayer de nouveaux instruments… \nInstallation des musiciens et accueil des nouveaux arrivants 18h\, \nLivrets de partitions/chants sur place \nEt en ligne pour s’entrainer : https://atelierfica.org/fiches-ateliers/atelier-musique \nPartagez ce contenu !
URL:https://atelierfica.org/evenement/atelier-musique-35-2/2026-06-12
LOCATION:Local FICA\, 44 rue de Genève\, meximieux\, 01800\, France
CATEGORIES:Musique
ATTACH;FMTTYPE=image/png:https://atelierfica.org/wp-content/uploads/2024/03/18.png
END:VEVENT
BEGIN:VEVENT
DTSTART;TZID=Europe/Paris:20260615T140000
DTEND;TZID=Europe/Paris:20260615T160000
DTSTAMP:20260425T194933
CREATED:20260320T142515Z
LAST-MODIFIED:20260320T143404Z
UID:10011379-1781532000-1781539200@atelierfica.org
SUMMARY:Musicos du lundi
DESCRIPTION:La bulle musicale du lundi\, c’est travailler un morceau de musique en groupe. \nUn morceau travaillé en détail sur plusieurs sessions. \nPartagez ce contenu !
URL:https://atelierfica.org/evenement/bulle-musicale-du-lundi-2/2026-06-15
LOCATION:Local FICA\, 44 rue de Genève\, meximieux\, 01800\, France
CATEGORIES:Musique
ATTACH;FMTTYPE=image/png:https://atelierfica.org/wp-content/uploads/2024/03/18.png
END:VEVENT
BEGIN:VEVENT
DTSTART;TZID=Europe/Paris:20260619T181500
DTEND;TZID=Europe/Paris:20260619T200000
DTSTAMP:20260425T194933
CREATED:20260203T084035Z
LAST-MODIFIED:20260203T084035Z
UID:10010997-1781892900-1781899200@atelierfica.org
SUMMARY:Atelier Musique
DESCRIPTION:Juste pour le plaisir de jouer à plusieurs\, pour ressortir nos instruments\, pour chanter\, pour écouter\, pour essayer de nouveaux instruments… \nInstallation des musiciens et accueil des nouveaux arrivants 18h\, \nLivrets de partitions/chants sur place \nEt en ligne pour s’entrainer : https://atelierfica.org/fiches-ateliers/atelier-musique \nPartagez ce contenu !
URL:https://atelierfica.org/evenement/atelier-musique-35-2/2026-06-19
LOCATION:Local FICA\, 44 rue de Genève\, meximieux\, 01800\, France
CATEGORIES:Musique
ATTACH;FMTTYPE=image/png:https://atelierfica.org/wp-content/uploads/2024/03/18.png
END:VEVENT
BEGIN:VEVENT
DTSTART;TZID=Europe/Paris:20260622T140000
DTEND;TZID=Europe/Paris:20260622T160000
DTSTAMP:20260425T194933
CREATED:20260320T142515Z
LAST-MODIFIED:20260320T143404Z
UID:10011380-1782136800-1782144000@atelierfica.org
SUMMARY:Musicos du lundi
DESCRIPTION:La bulle musicale du lundi\, c’est travailler un morceau de musique en groupe. \nUn morceau travaillé en détail sur plusieurs sessions. \nPartagez ce contenu !
URL:https://atelierfica.org/evenement/bulle-musicale-du-lundi-2/2026-06-22
LOCATION:Local FICA\, 44 rue de Genève\, meximieux\, 01800\, France
CATEGORIES:Musique
ATTACH;FMTTYPE=image/png:https://atelierfica.org/wp-content/uploads/2024/03/18.png
END:VEVENT
BEGIN:VEVENT
DTSTART;TZID=Europe/Paris:20260626T181500
DTEND;TZID=Europe/Paris:20260626T200000
DTSTAMP:20260425T194933
CREATED:20260203T084035Z
LAST-MODIFIED:20260203T084035Z
UID:10010998-1782497700-1782504000@atelierfica.org
SUMMARY:Atelier Musique
DESCRIPTION:Juste pour le plaisir de jouer à plusieurs\, pour ressortir nos instruments\, pour chanter\, pour écouter\, pour essayer de nouveaux instruments… \nInstallation des musiciens et accueil des nouveaux arrivants 18h\, \nLivrets de partitions/chants sur place \nEt en ligne pour s’entrainer : https://atelierfica.org/fiches-ateliers/atelier-musique \nPartagez ce contenu !
URL:https://atelierfica.org/evenement/atelier-musique-35-2/2026-06-26
LOCATION:Local FICA\, 44 rue de Genève\, meximieux\, 01800\, France
CATEGORIES:Musique
ATTACH;FMTTYPE=image/png:https://atelierfica.org/wp-content/uploads/2024/03/18.png
END:VEVENT
BEGIN:VEVENT
DTSTART;TZID=Europe/Paris:20260629T140000
DTEND;TZID=Europe/Paris:20260629T160000
DTSTAMP:20260425T194933
CREATED:20260320T142515Z
LAST-MODIFIED:20260320T143404Z
UID:10011381-1782741600-1782748800@atelierfica.org
SUMMARY:Musicos du lundi
DESCRIPTION:La bulle musicale du lundi\, c’est travailler un morceau de musique en groupe. \nUn morceau travaillé en détail sur plusieurs sessions. \nPartagez ce contenu !
URL:https://atelierfica.org/evenement/bulle-musicale-du-lundi-2/2026-06-29
LOCATION:Local FICA\, 44 rue de Genève\, meximieux\, 01800\, France
CATEGORIES:Musique
ATTACH;FMTTYPE=image/png:https://atelierfica.org/wp-content/uploads/2024/03/18.png
END:VEVENT
END:VCALENDAR