BEGIN:VCALENDAR
VERSION:2.0
PRODID:-//L&#039;atelier FICA - ECPv6.15.20//NONSGML v1.0//EN
CALSCALE:GREGORIAN
METHOD:PUBLISH
X-WR-CALNAME:L&#039;atelier FICA
X-ORIGINAL-URL:https://atelierfica.org
X-WR-CALDESC:Évènements pour L&#039;atelier FICA
REFRESH-INTERVAL;VALUE=DURATION:PT1H
X-Robots-Tag:noindex
X-PUBLISHED-TTL:PT1H
BEGIN:VTIMEZONE
TZID:Europe/Paris
BEGIN:DAYLIGHT
TZOFFSETFROM:+0100
TZOFFSETTO:+0200
TZNAME:CEST
DTSTART:20250330T010000
END:DAYLIGHT
BEGIN:STANDARD
TZOFFSETFROM:+0200
TZOFFSETTO:+0100
TZNAME:CET
DTSTART:20251026T010000
END:STANDARD
BEGIN:DAYLIGHT
TZOFFSETFROM:+0100
TZOFFSETTO:+0200
TZNAME:CEST
DTSTART:20260329T010000
END:DAYLIGHT
BEGIN:STANDARD
TZOFFSETFROM:+0200
TZOFFSETTO:+0100
TZNAME:CET
DTSTART:20261025T010000
END:STANDARD
BEGIN:DAYLIGHT
TZOFFSETFROM:+0100
TZOFFSETTO:+0200
TZNAME:CEST
DTSTART:20270328T010000
END:DAYLIGHT
BEGIN:STANDARD
TZOFFSETFROM:+0200
TZOFFSETTO:+0100
TZNAME:CET
DTSTART:20271031T010000
END:STANDARD
END:VTIMEZONE
BEGIN:VEVENT
DTSTART;TZID=Europe/Paris:20261002T181500
DTEND;TZID=Europe/Paris:20261002T200000
DTSTAMP:20260426T030133
CREATED:20260203T084035Z
LAST-MODIFIED:20260203T084035Z
UID:10011012-1790964900-1790971200@atelierfica.org
SUMMARY:Atelier Musique
DESCRIPTION:Juste pour le plaisir de jouer à plusieurs\, pour ressortir nos instruments\, pour chanter\, pour écouter\, pour essayer de nouveaux instruments… \nInstallation des musiciens et accueil des nouveaux arrivants 18h\, \nLivrets de partitions/chants sur place \nEt en ligne pour s’entrainer : https://atelierfica.org/fiches-ateliers/atelier-musique \nPartagez ce contenu !
URL:https://atelierfica.org/evenement/atelier-musique-35-2/2026-10-02
LOCATION:Local FICA\, 44 rue de Genève\, meximieux\, 01800\, France
CATEGORIES:Musique
ATTACH;FMTTYPE=image/png:https://atelierfica.org/wp-content/uploads/2024/03/18.png
END:VEVENT
BEGIN:VEVENT
DTSTART;TZID=Europe/Paris:20261009T181500
DTEND;TZID=Europe/Paris:20261009T200000
DTSTAMP:20260426T030133
CREATED:20260203T084035Z
LAST-MODIFIED:20260203T084035Z
UID:10011013-1791569700-1791576000@atelierfica.org
SUMMARY:Atelier Musique
DESCRIPTION:Juste pour le plaisir de jouer à plusieurs\, pour ressortir nos instruments\, pour chanter\, pour écouter\, pour essayer de nouveaux instruments… \nInstallation des musiciens et accueil des nouveaux arrivants 18h\, \nLivrets de partitions/chants sur place \nEt en ligne pour s’entrainer : https://atelierfica.org/fiches-ateliers/atelier-musique \nPartagez ce contenu !
URL:https://atelierfica.org/evenement/atelier-musique-35-2/2026-10-09
LOCATION:Local FICA\, 44 rue de Genève\, meximieux\, 01800\, France
CATEGORIES:Musique
ATTACH;FMTTYPE=image/png:https://atelierfica.org/wp-content/uploads/2024/03/18.png
END:VEVENT
BEGIN:VEVENT
DTSTART;TZID=Europe/Paris:20261016T181500
DTEND;TZID=Europe/Paris:20261016T200000
DTSTAMP:20260426T030133
CREATED:20260203T084035Z
LAST-MODIFIED:20260203T084035Z
UID:10011014-1792174500-1792180800@atelierfica.org
SUMMARY:Atelier Musique
DESCRIPTION:Juste pour le plaisir de jouer à plusieurs\, pour ressortir nos instruments\, pour chanter\, pour écouter\, pour essayer de nouveaux instruments… \nInstallation des musiciens et accueil des nouveaux arrivants 18h\, \nLivrets de partitions/chants sur place \nEt en ligne pour s’entrainer : https://atelierfica.org/fiches-ateliers/atelier-musique \nPartagez ce contenu !
URL:https://atelierfica.org/evenement/atelier-musique-35-2/2026-10-16
LOCATION:Local FICA\, 44 rue de Genève\, meximieux\, 01800\, France
CATEGORIES:Musique
ATTACH;FMTTYPE=image/png:https://atelierfica.org/wp-content/uploads/2024/03/18.png
END:VEVENT
BEGIN:VEVENT
DTSTART;TZID=Europe/Paris:20261023T181500
DTEND;TZID=Europe/Paris:20261023T200000
DTSTAMP:20260426T030133
CREATED:20260203T084035Z
LAST-MODIFIED:20260203T084035Z
UID:10011015-1792779300-1792785600@atelierfica.org
SUMMARY:Atelier Musique
DESCRIPTION:Juste pour le plaisir de jouer à plusieurs\, pour ressortir nos instruments\, pour chanter\, pour écouter\, pour essayer de nouveaux instruments… \nInstallation des musiciens et accueil des nouveaux arrivants 18h\, \nLivrets de partitions/chants sur place \nEt en ligne pour s’entrainer : https://atelierfica.org/fiches-ateliers/atelier-musique \nPartagez ce contenu !
URL:https://atelierfica.org/evenement/atelier-musique-35-2/2026-10-23
LOCATION:Local FICA\, 44 rue de Genève\, meximieux\, 01800\, France
CATEGORIES:Musique
ATTACH;FMTTYPE=image/png:https://atelierfica.org/wp-content/uploads/2024/03/18.png
END:VEVENT
BEGIN:VEVENT
DTSTART;TZID=Europe/Paris:20261030T181500
DTEND;TZID=Europe/Paris:20261030T200000
DTSTAMP:20260426T030133
CREATED:20260203T084035Z
LAST-MODIFIED:20260203T084035Z
UID:10011016-1793384100-1793390400@atelierfica.org
SUMMARY:Atelier Musique
DESCRIPTION:Juste pour le plaisir de jouer à plusieurs\, pour ressortir nos instruments\, pour chanter\, pour écouter\, pour essayer de nouveaux instruments… \nInstallation des musiciens et accueil des nouveaux arrivants 18h\, \nLivrets de partitions/chants sur place \nEt en ligne pour s’entrainer : https://atelierfica.org/fiches-ateliers/atelier-musique \nPartagez ce contenu !
URL:https://atelierfica.org/evenement/atelier-musique-35-2/2026-10-30
LOCATION:Local FICA\, 44 rue de Genève\, meximieux\, 01800\, France
CATEGORIES:Musique
ATTACH;FMTTYPE=image/png:https://atelierfica.org/wp-content/uploads/2024/03/18.png
END:VEVENT
END:VCALENDAR