BEGIN:VCALENDAR
VERSION:2.0
PRODID:-//L&#039;atelier FICA - ECPv6.15.20//NONSGML v1.0//EN
CALSCALE:GREGORIAN
METHOD:PUBLISH
X-WR-CALNAME:L&#039;atelier FICA
X-ORIGINAL-URL:https://atelierfica.org
X-WR-CALDESC:Évènements pour L&#039;atelier FICA
REFRESH-INTERVAL;VALUE=DURATION:PT1H
X-Robots-Tag:noindex
X-PUBLISHED-TTL:PT1H
BEGIN:VTIMEZONE
TZID:Europe/Paris
BEGIN:DAYLIGHT
TZOFFSETFROM:+0100
TZOFFSETTO:+0200
TZNAME:CEST
DTSTART:20200329T010000
END:DAYLIGHT
BEGIN:STANDARD
TZOFFSETFROM:+0200
TZOFFSETTO:+0100
TZNAME:CET
DTSTART:20201025T010000
END:STANDARD
BEGIN:DAYLIGHT
TZOFFSETFROM:+0100
TZOFFSETTO:+0200
TZNAME:CEST
DTSTART:20210328T010000
END:DAYLIGHT
BEGIN:STANDARD
TZOFFSETFROM:+0200
TZOFFSETTO:+0100
TZNAME:CET
DTSTART:20211031T010000
END:STANDARD
BEGIN:DAYLIGHT
TZOFFSETFROM:+0100
TZOFFSETTO:+0200
TZNAME:CEST
DTSTART:20220327T010000
END:DAYLIGHT
BEGIN:STANDARD
TZOFFSETFROM:+0200
TZOFFSETTO:+0100
TZNAME:CET
DTSTART:20221030T010000
END:STANDARD
END:VTIMEZONE
BEGIN:VEVENT
DTSTART;TZID=Europe/Paris:20211008T180000
DTEND;TZID=Europe/Paris:20211008T200000
DTSTAMP:20260426T022507
CREATED:20210930T095506Z
LAST-MODIFIED:20210930T095506Z
UID:10003170-1633716000-1633723200@atelierfica.org
SUMMARY:Atelier Musique
DESCRIPTION:Juste pour le plaisir de jouer à plusieurs\, pour ressortir nos instruments\, pour chanter\, pour écouter\, pour essayer de nouveaux instruments… \nInstallation des musiciens et accueil des nouveaux arrivants 18h\, \nDébut de la répétition 18h30 \nLivrets de partitions/chants sur place \nEt en ligne pour s’entrainer : https://atelierfica.org/fiches-ateliers/atelier-musique \nPartagez ce contenu !
URL:https://atelierfica.org/evenement/atelier-musique-17
LOCATION:Local FICA\, 44 rue de Genève\, meximieux\, 01800\, France
CATEGORIES:Musique
ATTACH;FMTTYPE=image/png:https://atelierfica.org/wp-content/uploads/2021/09/musique.png
END:VEVENT
END:VCALENDAR