BEGIN:VCALENDAR
VERSION:2.0
PRODID:-//L&#039;atelier FICA - ECPv6.15.20//NONSGML v1.0//EN
CALSCALE:GREGORIAN
METHOD:PUBLISH
X-WR-CALNAME:L&#039;atelier FICA
X-ORIGINAL-URL:https://atelierfica.org
X-WR-CALDESC:Évènements pour L&#039;atelier FICA
REFRESH-INTERVAL;VALUE=DURATION:PT1H
X-Robots-Tag:noindex
X-PUBLISHED-TTL:PT1H
BEGIN:VTIMEZONE
TZID:Europe/Paris
BEGIN:DAYLIGHT
TZOFFSETFROM:+0100
TZOFFSETTO:+0200
TZNAME:CEST
DTSTART:20250330T010000
END:DAYLIGHT
BEGIN:STANDARD
TZOFFSETFROM:+0200
TZOFFSETTO:+0100
TZNAME:CET
DTSTART:20251026T010000
END:STANDARD
BEGIN:DAYLIGHT
TZOFFSETFROM:+0100
TZOFFSETTO:+0200
TZNAME:CEST
DTSTART:20260329T010000
END:DAYLIGHT
BEGIN:STANDARD
TZOFFSETFROM:+0200
TZOFFSETTO:+0100
TZNAME:CET
DTSTART:20261025T010000
END:STANDARD
BEGIN:DAYLIGHT
TZOFFSETFROM:+0100
TZOFFSETTO:+0200
TZNAME:CEST
DTSTART:20270328T010000
END:DAYLIGHT
BEGIN:STANDARD
TZOFFSETFROM:+0200
TZOFFSETTO:+0100
TZNAME:CET
DTSTART:20271031T010000
END:STANDARD
END:VTIMEZONE
BEGIN:VEVENT
DTSTART;TZID=Europe/Paris:20260414T183000
DTEND;TZID=Europe/Paris:20260414T203000
DTSTAMP:20260424T175254
CREATED:20260207T091202Z
LAST-MODIFIED:20260330T082646Z
UID:10011317-1776191400-1776198600@atelierfica.org
SUMMARY:Atelier Contes (pour adultes)
DESCRIPTION:Animé par la Colporteuse de mots \n\n\n\nDans cet atelier\, aucun pré-requis\, si ce n’est l’envie de raconter des histoires et peut-être d’en créer aussi !\nArts de la parole\, mime\, improvisation et écriture nous accompagneront au cours de cette année pour vous permettre de découvrir vos talents cachés ou d’affiner des compétences déjà acquises.\n\nRenseignements et inscription au 06.20.62.35.41 \n\n\nPartagez ce contenu !
URL:https://atelierfica.org/evenement/atelier-contes-pour-adultes/2026-04-14
LOCATION:Local FICA\, 44 rue de Genève\, meximieux\, 01800\, France
CATEGORIES:Contes et histoires
ATTACH;FMTTYPE=image/png:https://atelierfica.org/wp-content/uploads/2026/02/Publication-Instagram-Atelier-de-peinture-Paques-Aquarelle-Rose3-e1774017563319.png
END:VEVENT
END:VCALENDAR