BEGIN:VCALENDAR
VERSION:2.0
PRODID:-//L&#039;atelier FICA - ECPv6.15.20//NONSGML v1.0//EN
CALSCALE:GREGORIAN
METHOD:PUBLISH
X-WR-CALNAME:L&#039;atelier FICA
X-ORIGINAL-URL:https://atelierfica.org
X-WR-CALDESC:Évènements pour L&#039;atelier FICA
REFRESH-INTERVAL;VALUE=DURATION:PT1H
X-Robots-Tag:noindex
X-PUBLISHED-TTL:PT1H
BEGIN:VTIMEZONE
TZID:Europe/Paris
BEGIN:DAYLIGHT
TZOFFSETFROM:+0100
TZOFFSETTO:+0200
TZNAME:CEST
DTSTART:20230326T010000
END:DAYLIGHT
BEGIN:STANDARD
TZOFFSETFROM:+0200
TZOFFSETTO:+0100
TZNAME:CET
DTSTART:20231029T010000
END:STANDARD
BEGIN:DAYLIGHT
TZOFFSETFROM:+0100
TZOFFSETTO:+0200
TZNAME:CEST
DTSTART:20240331T010000
END:DAYLIGHT
BEGIN:STANDARD
TZOFFSETFROM:+0200
TZOFFSETTO:+0100
TZNAME:CET
DTSTART:20241027T010000
END:STANDARD
BEGIN:DAYLIGHT
TZOFFSETFROM:+0100
TZOFFSETTO:+0200
TZNAME:CEST
DTSTART:20250330T010000
END:DAYLIGHT
BEGIN:STANDARD
TZOFFSETFROM:+0200
TZOFFSETTO:+0100
TZNAME:CET
DTSTART:20251026T010000
END:STANDARD
END:VTIMEZONE
BEGIN:VEVENT
DTSTART;TZID=Europe/Paris:20240629T100000
DTEND;TZID=Europe/Paris:20240629T113000
DTSTAMP:20260425T151808
CREATED:20240621T141632Z
LAST-MODIFIED:20240621T142219Z
UID:10006136-1719655200-1719660600@atelierfica.org
SUMMARY:Atelier "Je pense donc je suis"
DESCRIPTION:Qu’est-ce que la beauté ? Doit-on réaliser nos rêves ? Qu’est-ce que l’infiniment grand ?\nCes questions et bien d’autres vous traversent sans que vous ne puissiez trouver le temps ni le lieu pour les penser ?\nMaëlle s’est faite la même réflexion et a de suite pensé à FICA. \nElle propose d’animer un premier temps d’échanges le samedi 29 Juin de 10h00 à 11h30 dans la cour intérieur de l’Atelier FICA.\nAfin de garantir des conditions optimales d’échanges entre pairs\, une arrivée ponctuelle est recommandée. \nPartagez ce contenu !
URL:https://atelierfica.org/evenement/atelier-paroles-libres
LOCATION:Local FICA\, 44 rue de Genève\, meximieux\, 01800\, France
CATEGORIES:dév perso,Discussion animée,Intelligence collective
ATTACH;FMTTYPE=image/png:https://atelierfica.org/wp-content/uploads/2024/03/14.png
END:VEVENT
END:VCALENDAR