BEGIN:VCALENDAR
VERSION:2.0
PRODID:-//L&#039;atelier FICA - ECPv6.15.20//NONSGML v1.0//EN
CALSCALE:GREGORIAN
METHOD:PUBLISH
X-ORIGINAL-URL:https://atelierfica.org
X-WR-CALDESC:Évènements pour L&#039;atelier FICA
REFRESH-INTERVAL;VALUE=DURATION:PT1H
X-Robots-Tag:noindex
X-PUBLISHED-TTL:PT1H
BEGIN:VTIMEZONE
TZID:Europe/Paris
BEGIN:DAYLIGHT
TZOFFSETFROM:+0100
TZOFFSETTO:+0200
TZNAME:CEST
DTSTART:20250330T010000
END:DAYLIGHT
BEGIN:STANDARD
TZOFFSETFROM:+0200
TZOFFSETTO:+0100
TZNAME:CET
DTSTART:20251026T010000
END:STANDARD
BEGIN:DAYLIGHT
TZOFFSETFROM:+0100
TZOFFSETTO:+0200
TZNAME:CEST
DTSTART:20260329T010000
END:DAYLIGHT
BEGIN:STANDARD
TZOFFSETFROM:+0200
TZOFFSETTO:+0100
TZNAME:CET
DTSTART:20261025T010000
END:STANDARD
BEGIN:DAYLIGHT
TZOFFSETFROM:+0100
TZOFFSETTO:+0200
TZNAME:CEST
DTSTART:20270328T010000
END:DAYLIGHT
BEGIN:STANDARD
TZOFFSETFROM:+0200
TZOFFSETTO:+0100
TZNAME:CET
DTSTART:20271031T010000
END:STANDARD
END:VTIMEZONE
BEGIN:VEVENT
DTSTART;TZID=Europe/Paris:20260421T140000
DTEND;TZID=Europe/Paris:20260421T160000
DTSTAMP:20260424T153750
CREATED:20251024T090025Z
LAST-MODIFIED:20260105T155439Z
UID:10010854-1776780000-1776787200@atelierfica.org
SUMMARY:Pause FiKA
DESCRIPTION:Envie de découvrir et d’expérimenter FiKA\, cette tradition scandinave ? \nRendez-vous les mardis entre 14h et 16h 🙂 \nPartagez ce contenu !
URL:https://atelierfica.org/evenement/pause-fika/2026-04-21
LOCATION:Local FICA\, 44 rue de Genève\, meximieux\, 01800\, France
CATEGORIES:Vie associative
ATTACH;FMTTYPE=image/jpeg:https://atelierfica.org/wp-content/uploads/2025/10/Beige-Handmade-Sisters-Photo-Collage-Social-Media.jpg
END:VEVENT
BEGIN:VEVENT
DTSTART;TZID=Europe/Paris:20260426T100000
DTEND;TZID=Europe/Paris:20260426T120000
DTSTAMP:20260424T153750
CREATED:20260327T170241Z
LAST-MODIFIED:20260327T170241Z
UID:10011461-1777197600-1777204800@atelierfica.org
SUMMARY:Assemblée générale
DESCRIPTION:L’association l’Atelier FICA\, Espace de Vie Sociale de Meximieux\, \nvous invite à ses assemblées générales ordinaire et extraordinaire \nle dimanche 26 avril 2026 \nde 10h à 12h \nau cinéma l’Horloge \n  \nRevoir ensemble l’année 2025 et continuer à écrire 2026 ! \nPartagez ce contenu !
URL:https://atelierfica.org/evenement/assemblee-generale-3
LOCATION:Cinéma l’horloge\, 1 place lieutenant giraud\, meximieux\, 01800\, France
CATEGORIES:Vie associative
ATTACH;FMTTYPE=image/png:https://atelierfica.org/wp-content/uploads/2026/03/Black-Red-Yellow-Simple-Movie-Night-Poster1.png
END:VEVENT
END:VCALENDAR