BEGIN:VCALENDAR
VERSION:2.0
PRODID:-//L&#039;atelier FICA - ECPv6.15.20//NONSGML v1.0//EN
CALSCALE:GREGORIAN
METHOD:PUBLISH
X-WR-CALNAME:L&#039;atelier FICA
X-ORIGINAL-URL:https://atelierfica.org
X-WR-CALDESC:Évènements pour L&#039;atelier FICA
REFRESH-INTERVAL;VALUE=DURATION:PT1H
X-Robots-Tag:noindex
X-PUBLISHED-TTL:PT1H
BEGIN:VTIMEZONE
TZID:Europe/Paris
BEGIN:DAYLIGHT
TZOFFSETFROM:+0100
TZOFFSETTO:+0200
TZNAME:CEST
DTSTART:20250330T010000
END:DAYLIGHT
BEGIN:STANDARD
TZOFFSETFROM:+0200
TZOFFSETTO:+0100
TZNAME:CET
DTSTART:20251026T010000
END:STANDARD
BEGIN:DAYLIGHT
TZOFFSETFROM:+0100
TZOFFSETTO:+0200
TZNAME:CEST
DTSTART:20260329T010000
END:DAYLIGHT
BEGIN:STANDARD
TZOFFSETFROM:+0200
TZOFFSETTO:+0100
TZNAME:CET
DTSTART:20261025T010000
END:STANDARD
BEGIN:DAYLIGHT
TZOFFSETFROM:+0100
TZOFFSETTO:+0200
TZNAME:CEST
DTSTART:20270328T010000
END:DAYLIGHT
BEGIN:STANDARD
TZOFFSETFROM:+0200
TZOFFSETTO:+0100
TZNAME:CET
DTSTART:20271031T010000
END:STANDARD
END:VTIMEZONE
BEGIN:VEVENT
DTSTART;TZID=Europe/Paris:20260516T093000
DTEND;TZID=Europe/Paris:20260516T120000
DTSTAMP:20260424T134620
CREATED:20250829T132038Z
LAST-MODIFIED:20260320T145317Z
UID:10011397-1778923800-1778932800@atelierfica.org
SUMMARY:Couture
DESCRIPTION:Venez avec votre projet pour être accompagnés\, pour papoter ou trouvez des idées avec Karen.\nQue vous ayez une machine à coudre ou pas\, que vous la maîtrisiez ou pas\, que vous ayez un ourlet à faire ou pas\, tous les curieux de couture sont les bienvenus ! \nLes machines à coudre\, surjeteuses et tissus sont toujours sur place à disposition. \nPartagez ce contenu !
URL:https://atelierfica.org/evenement/couture/2026-05-16
LOCATION:Local FICA\, 44 rue de Genève\, meximieux\, 01800\, France
CATEGORIES:Couture
ATTACH;FMTTYPE=image/png:https://atelierfica.org/wp-content/uploads/2024/03/8.png
END:VEVENT
BEGIN:VEVENT
DTSTART;TZID=Europe/Paris:20260613T093000
DTEND;TZID=Europe/Paris:20260613T120000
DTSTAMP:20260424T134620
CREATED:20250829T132038Z
LAST-MODIFIED:20260320T145317Z
UID:10011398-1781343000-1781352000@atelierfica.org
SUMMARY:Couture
DESCRIPTION:Venez avec votre projet pour être accompagnés\, pour papoter ou trouvez des idées avec Karen.\nQue vous ayez une machine à coudre ou pas\, que vous la maîtrisiez ou pas\, que vous ayez un ourlet à faire ou pas\, tous les curieux de couture sont les bienvenus ! \nLes machines à coudre\, surjeteuses et tissus sont toujours sur place à disposition. \nPartagez ce contenu !
URL:https://atelierfica.org/evenement/couture/2026-06-13
LOCATION:Local FICA\, 44 rue de Genève\, meximieux\, 01800\, France
CATEGORIES:Couture
ATTACH;FMTTYPE=image/png:https://atelierfica.org/wp-content/uploads/2024/03/8.png
END:VEVENT
END:VCALENDAR