BEGIN:VCALENDAR
VERSION:2.0
PRODID:-//L&#039;atelier FICA - ECPv6.15.20//NONSGML v1.0//EN
CALSCALE:GREGORIAN
METHOD:PUBLISH
X-WR-CALNAME:L&#039;atelier FICA
X-ORIGINAL-URL:https://atelierfica.org
X-WR-CALDESC:Évènements pour L&#039;atelier FICA
REFRESH-INTERVAL;VALUE=DURATION:PT1H
X-Robots-Tag:noindex
X-PUBLISHED-TTL:PT1H
BEGIN:VTIMEZONE
TZID:Europe/Paris
BEGIN:DAYLIGHT
TZOFFSETFROM:+0100
TZOFFSETTO:+0200
TZNAME:CEST
DTSTART:20250330T010000
END:DAYLIGHT
BEGIN:STANDARD
TZOFFSETFROM:+0200
TZOFFSETTO:+0100
TZNAME:CET
DTSTART:20251026T010000
END:STANDARD
BEGIN:DAYLIGHT
TZOFFSETFROM:+0100
TZOFFSETTO:+0200
TZNAME:CEST
DTSTART:20260329T010000
END:DAYLIGHT
BEGIN:STANDARD
TZOFFSETFROM:+0200
TZOFFSETTO:+0100
TZNAME:CET
DTSTART:20261025T010000
END:STANDARD
BEGIN:DAYLIGHT
TZOFFSETFROM:+0100
TZOFFSETTO:+0200
TZNAME:CEST
DTSTART:20270328T010000
END:DAYLIGHT
BEGIN:STANDARD
TZOFFSETFROM:+0200
TZOFFSETTO:+0100
TZNAME:CET
DTSTART:20271031T010000
END:STANDARD
END:VTIMEZONE
BEGIN:VEVENT
DTSTART;TZID=Europe/Paris:20260524T140000
DTEND;TZID=Europe/Paris:20260524T170000
DTSTAMP:20260424T134603
CREATED:20250905T121236Z
LAST-MODIFIED:20260320T150154Z
UID:10011414-1779631200-1779642000@atelierfica.org
SUMMARY:Jeux de société & Goûter
DESCRIPTION:Venez partager un moment de convivialité autour de jeux de société. \n  \n  \n  \n  \nPartagez ce contenu !
URL:https://atelierfica.org/evenement/jeux-de-societe-gouter/2026-05-24
LOCATION:Local FICA\, 44 rue de Genève\, meximieux\, 01800\, France
CATEGORIES:Jeux
ATTACH;FMTTYPE=image/png:https://atelierfica.org/wp-content/uploads/2024/03/16.png
END:VEVENT
BEGIN:VEVENT
DTSTART;TZID=Europe/Paris:20260621T140000
DTEND;TZID=Europe/Paris:20260621T170000
DTSTAMP:20260424T134603
CREATED:20250905T121236Z
LAST-MODIFIED:20260320T150154Z
UID:10011415-1782050400-1782061200@atelierfica.org
SUMMARY:Jeux de société & Goûter
DESCRIPTION:Venez partager un moment de convivialité autour de jeux de société. \n  \n  \n  \n  \nPartagez ce contenu !
URL:https://atelierfica.org/evenement/jeux-de-societe-gouter/2026-06-21
LOCATION:Local FICA\, 44 rue de Genève\, meximieux\, 01800\, France
CATEGORIES:Jeux
ATTACH;FMTTYPE=image/png:https://atelierfica.org/wp-content/uploads/2024/03/16.png
END:VEVENT
END:VCALENDAR