BEGIN:VCALENDAR
VERSION:2.0
PRODID:-//L&#039;atelier FICA - ECPv6.15.20//NONSGML v1.0//EN
CALSCALE:GREGORIAN
METHOD:PUBLISH
X-WR-CALNAME:L&#039;atelier FICA
X-ORIGINAL-URL:https://atelierfica.org
X-WR-CALDESC:Évènements pour L&#039;atelier FICA
REFRESH-INTERVAL;VALUE=DURATION:PT1H
X-Robots-Tag:noindex
X-PUBLISHED-TTL:PT1H
BEGIN:VTIMEZONE
TZID:Europe/Paris
BEGIN:DAYLIGHT
TZOFFSETFROM:+0100
TZOFFSETTO:+0200
TZNAME:CEST
DTSTART:20250330T010000
END:DAYLIGHT
BEGIN:STANDARD
TZOFFSETFROM:+0200
TZOFFSETTO:+0100
TZNAME:CET
DTSTART:20251026T010000
END:STANDARD
BEGIN:DAYLIGHT
TZOFFSETFROM:+0100
TZOFFSETTO:+0200
TZNAME:CEST
DTSTART:20260329T010000
END:DAYLIGHT
BEGIN:STANDARD
TZOFFSETFROM:+0200
TZOFFSETTO:+0100
TZNAME:CET
DTSTART:20261025T010000
END:STANDARD
BEGIN:DAYLIGHT
TZOFFSETFROM:+0100
TZOFFSETTO:+0200
TZNAME:CEST
DTSTART:20270328T010000
END:DAYLIGHT
BEGIN:STANDARD
TZOFFSETFROM:+0200
TZOFFSETTO:+0100
TZNAME:CET
DTSTART:20271031T010000
END:STANDARD
END:VTIMEZONE
BEGIN:VEVENT
DTSTART;TZID=Europe/Paris:20260424T163000
DTEND;TZID=Europe/Paris:20260424T180000
DTSTAMP:20260424T153311
CREATED:20250829T095137Z
LAST-MODIFIED:20260320T140210Z
UID:10011344-1777048200-1777053600@atelierfica.org
SUMMARY:Coups de pouce scolaire
DESCRIPTION:Si les devoirs sont compliqués\, venez en parler ou même les faire à l’atelier FICA avec Tatiana et Basile ! \nPartagez ce contenu !
URL:https://atelierfica.org/evenement/coups-de-pouce-scolaire-3/2026-04-24
LOCATION:Local FICA\, 44 rue de Genève\, meximieux\, 01800\, France
CATEGORIES:Coup de pouce scolaire,Pédagogies alternatives
ATTACH;FMTTYPE=image/png:https://atelierfica.org/wp-content/uploads/2024/03/21.png
END:VEVENT
BEGIN:VEVENT
DTSTART;TZID=Europe/Paris:20260522T163000
DTEND;TZID=Europe/Paris:20260522T180000
DTSTAMP:20260424T153311
CREATED:20250829T095137Z
LAST-MODIFIED:20260320T140210Z
UID:10011345-1779467400-1779472800@atelierfica.org
SUMMARY:Coups de pouce scolaire
DESCRIPTION:Si les devoirs sont compliqués\, venez en parler ou même les faire à l’atelier FICA avec Tatiana et Basile ! \nPartagez ce contenu !
URL:https://atelierfica.org/evenement/coups-de-pouce-scolaire-3/2026-05-22
LOCATION:Local FICA\, 44 rue de Genève\, meximieux\, 01800\, France
CATEGORIES:Coup de pouce scolaire,Pédagogies alternatives
ATTACH;FMTTYPE=image/png:https://atelierfica.org/wp-content/uploads/2024/03/21.png
END:VEVENT
BEGIN:VEVENT
DTSTART;TZID=Europe/Paris:20260529T163000
DTEND;TZID=Europe/Paris:20260529T180000
DTSTAMP:20260424T153311
CREATED:20250829T095137Z
LAST-MODIFIED:20260320T140210Z
UID:10011346-1780072200-1780077600@atelierfica.org
SUMMARY:Coups de pouce scolaire
DESCRIPTION:Si les devoirs sont compliqués\, venez en parler ou même les faire à l’atelier FICA avec Tatiana et Basile ! \nPartagez ce contenu !
URL:https://atelierfica.org/evenement/coups-de-pouce-scolaire-3/2026-05-29
LOCATION:Local FICA\, 44 rue de Genève\, meximieux\, 01800\, France
CATEGORIES:Coup de pouce scolaire,Pédagogies alternatives
ATTACH;FMTTYPE=image/png:https://atelierfica.org/wp-content/uploads/2024/03/21.png
END:VEVENT
BEGIN:VEVENT
DTSTART;TZID=Europe/Paris:20260605T163000
DTEND;TZID=Europe/Paris:20260605T180000
DTSTAMP:20260424T153311
CREATED:20250829T095137Z
LAST-MODIFIED:20260320T140210Z
UID:10011347-1780677000-1780682400@atelierfica.org
SUMMARY:Coups de pouce scolaire
DESCRIPTION:Si les devoirs sont compliqués\, venez en parler ou même les faire à l’atelier FICA avec Tatiana et Basile ! \nPartagez ce contenu !
URL:https://atelierfica.org/evenement/coups-de-pouce-scolaire-3/2026-06-05
LOCATION:Local FICA\, 44 rue de Genève\, meximieux\, 01800\, France
CATEGORIES:Coup de pouce scolaire,Pédagogies alternatives
ATTACH;FMTTYPE=image/png:https://atelierfica.org/wp-content/uploads/2024/03/21.png
END:VEVENT
BEGIN:VEVENT
DTSTART;TZID=Europe/Paris:20260612T163000
DTEND;TZID=Europe/Paris:20260612T180000
DTSTAMP:20260424T153311
CREATED:20250829T095137Z
LAST-MODIFIED:20260320T140210Z
UID:10011348-1781281800-1781287200@atelierfica.org
SUMMARY:Coups de pouce scolaire
DESCRIPTION:Si les devoirs sont compliqués\, venez en parler ou même les faire à l’atelier FICA avec Tatiana et Basile ! \nPartagez ce contenu !
URL:https://atelierfica.org/evenement/coups-de-pouce-scolaire-3/2026-06-12
LOCATION:Local FICA\, 44 rue de Genève\, meximieux\, 01800\, France
CATEGORIES:Coup de pouce scolaire,Pédagogies alternatives
ATTACH;FMTTYPE=image/png:https://atelierfica.org/wp-content/uploads/2024/03/21.png
END:VEVENT
BEGIN:VEVENT
DTSTART;TZID=Europe/Paris:20260619T163000
DTEND;TZID=Europe/Paris:20260619T180000
DTSTAMP:20260424T153311
CREATED:20250829T095137Z
LAST-MODIFIED:20260320T140210Z
UID:10011349-1781886600-1781892000@atelierfica.org
SUMMARY:Coups de pouce scolaire
DESCRIPTION:Si les devoirs sont compliqués\, venez en parler ou même les faire à l’atelier FICA avec Tatiana et Basile ! \nPartagez ce contenu !
URL:https://atelierfica.org/evenement/coups-de-pouce-scolaire-3/2026-06-19
LOCATION:Local FICA\, 44 rue de Genève\, meximieux\, 01800\, France
CATEGORIES:Coup de pouce scolaire,Pédagogies alternatives
ATTACH;FMTTYPE=image/png:https://atelierfica.org/wp-content/uploads/2024/03/21.png
END:VEVENT
BEGIN:VEVENT
DTSTART;TZID=Europe/Paris:20260626T163000
DTEND;TZID=Europe/Paris:20260626T180000
DTSTAMP:20260424T153311
CREATED:20250829T095137Z
LAST-MODIFIED:20260320T140210Z
UID:10011350-1782491400-1782496800@atelierfica.org
SUMMARY:Coups de pouce scolaire
DESCRIPTION:Si les devoirs sont compliqués\, venez en parler ou même les faire à l’atelier FICA avec Tatiana et Basile ! \nPartagez ce contenu !
URL:https://atelierfica.org/evenement/coups-de-pouce-scolaire-3/2026-06-26
LOCATION:Local FICA\, 44 rue de Genève\, meximieux\, 01800\, France
CATEGORIES:Coup de pouce scolaire,Pédagogies alternatives
ATTACH;FMTTYPE=image/png:https://atelierfica.org/wp-content/uploads/2024/03/21.png
END:VEVENT
END:VCALENDAR