BEGIN:VCALENDAR
VERSION:2.0
PRODID:-//L&#039;atelier FICA - ECPv6.15.20//NONSGML v1.0//EN
CALSCALE:GREGORIAN
METHOD:PUBLISH
X-WR-CALNAME:L&#039;atelier FICA
X-ORIGINAL-URL:https://atelierfica.org
X-WR-CALDESC:Évènements pour L&#039;atelier FICA
REFRESH-INTERVAL;VALUE=DURATION:PT1H
X-Robots-Tag:noindex
X-PUBLISHED-TTL:PT1H
BEGIN:VTIMEZONE
TZID:Europe/Paris
BEGIN:DAYLIGHT
TZOFFSETFROM:+0100
TZOFFSETTO:+0200
TZNAME:CEST
DTSTART:20200329T010000
END:DAYLIGHT
BEGIN:STANDARD
TZOFFSETFROM:+0200
TZOFFSETTO:+0100
TZNAME:CET
DTSTART:20201025T010000
END:STANDARD
BEGIN:DAYLIGHT
TZOFFSETFROM:+0100
TZOFFSETTO:+0200
TZNAME:CEST
DTSTART:20210328T010000
END:DAYLIGHT
BEGIN:STANDARD
TZOFFSETFROM:+0200
TZOFFSETTO:+0100
TZNAME:CET
DTSTART:20211031T010000
END:STANDARD
BEGIN:DAYLIGHT
TZOFFSETFROM:+0100
TZOFFSETTO:+0200
TZNAME:CEST
DTSTART:20220327T010000
END:DAYLIGHT
BEGIN:STANDARD
TZOFFSETFROM:+0200
TZOFFSETTO:+0100
TZNAME:CET
DTSTART:20221030T010000
END:STANDARD
END:VTIMEZONE
BEGIN:VEVENT
DTSTART;VALUE=DATE:20211218
DTEND;VALUE=DATE:20211219
DTSTAMP:20260426T022823
CREATED:20211125T154925Z
LAST-MODIFIED:20211125T154925Z
UID:10004034-1639785600-1639871999@atelierfica.org
SUMMARY:Atelier Cuisine Bredele
DESCRIPTION:On cuisine ensemble des bredele alsaciens : 7 recettes \n2 ateliers: \n\n9h-12h : cuisine\n14h-17h : cuisine\n19h : distribution aux cuisiniers et aux habitants\n\nPartagez ce contenu !
URL:https://atelierfica.org/evenement/atelier-cuisine-bredele
LOCATION:à définir\, Meximieux\, 01800\, France
CATEGORIES:Ateliers cuisine
ATTACH;FMTTYPE=image/png:https://atelierfica.org/wp-content/uploads/2021/11/cuisine-bredele.png
END:VEVENT
BEGIN:VEVENT
DTSTART;TZID=Europe/Paris:20211205T140000
DTEND;TZID=Europe/Paris:20211205T170000
DTSTAMP:20260426T022823
CREATED:20211125T161353Z
LAST-MODIFIED:20211125T161353Z
UID:10004049-1638712800-1638723600@atelierfica.org
SUMMARY:Balade botanique
DESCRIPTION:L’association « Liens Aliments Terre » basée à St Maurice de Gourdans organise dimanche 5 Décembre une sortie botanique pour reconnaitre les arbres en hiver (affiche jointe). Il reste quelques places.\nVous pouvez contacter Annie dont le numéro de téléphone figure sur l’affiche\, elle vous donnera les infos pour le lieu de rendez vous \, le prix libre\, etc … \nPartagez ce contenu !
URL:https://atelierfica.org/evenement/balade-botanique
LOCATION:à définir\, Meximieux\, 01800\, France
CATEGORIES:Balades nature
ATTACH;FMTTYPE=image/png:https://atelierfica.org/wp-content/uploads/2021/11/balade-arbre.png
ORGANIZER;CN="Liens Aliments terre":MAILTO:liensalimentsterre@gmail.com
END:VEVENT
BEGIN:VEVENT
DTSTART;TZID=Europe/Paris:20210627T093000
DTEND;TZID=Europe/Paris:20210627T120000
DTSTAMP:20260426T022823
CREATED:20210608T135151Z
LAST-MODIFIED:20210608T135603Z
UID:10003116-1624786200-1624795200@atelierfica.org
SUMMARY:Sortie VTT
DESCRIPTION:Besoin d’entretenir votre vélo avant la sortie ? Venez au repair’vélo du 12 juin \nPas de vélo pour faire la sortie ? Contactez l’atelier FICA \nSORTIE VELO FICA 3ème édition Dim 27 juin\nPartagez ce contenu !
URL:https://atelierfica.org/evenement/atelier-zd-beewrap
LOCATION:à définir\, Meximieux\, 01800\, France
CATEGORIES:Balades nature
ATTACH;FMTTYPE=image/png:https://atelierfica.org/wp-content/uploads/2021/06/9.png
END:VEVENT
END:VCALENDAR