BEGIN:VCALENDAR
VERSION:2.0
PRODID:-//L&#039;atelier FICA - ECPv6.15.20//NONSGML v1.0//EN
CALSCALE:GREGORIAN
METHOD:PUBLISH
X-ORIGINAL-URL:https://atelierfica.org
X-WR-CALDESC:Évènements pour L&#039;atelier FICA
REFRESH-INTERVAL;VALUE=DURATION:PT1H
X-Robots-Tag:noindex
X-PUBLISHED-TTL:PT1H
BEGIN:VTIMEZONE
TZID:Europe/Paris
BEGIN:DAYLIGHT
TZOFFSETFROM:+0100
TZOFFSETTO:+0200
TZNAME:CEST
DTSTART:20250330T010000
END:DAYLIGHT
BEGIN:STANDARD
TZOFFSETFROM:+0200
TZOFFSETTO:+0100
TZNAME:CET
DTSTART:20251026T010000
END:STANDARD
BEGIN:DAYLIGHT
TZOFFSETFROM:+0100
TZOFFSETTO:+0200
TZNAME:CEST
DTSTART:20260329T010000
END:DAYLIGHT
BEGIN:STANDARD
TZOFFSETFROM:+0200
TZOFFSETTO:+0100
TZNAME:CET
DTSTART:20261025T010000
END:STANDARD
BEGIN:DAYLIGHT
TZOFFSETFROM:+0100
TZOFFSETTO:+0200
TZNAME:CEST
DTSTART:20270328T010000
END:DAYLIGHT
BEGIN:STANDARD
TZOFFSETFROM:+0200
TZOFFSETTO:+0100
TZNAME:CET
DTSTART:20271031T010000
END:STANDARD
END:VTIMEZONE
BEGIN:VEVENT
DTSTART;TZID=Europe/Paris:20260423T140000
DTEND;TZID=Europe/Paris:20260423T163000
DTSTAMP:20260422T162936
CREATED:20260316T075212Z
LAST-MODIFIED:20260320T142436Z
UID:10011359-1776952800-1776961800@atelierfica.org
SUMMARY:Peinture & Dessin
DESCRIPTION:Vous aimez dessiner / peindre ? \nVenez partager un moment créatif et convivial à l’atelier FICA tous les jeudi de 14h à 16h30. \nAmateurs ou experts\, petits et grands…tout le monde est bienvenu. \nSur les conseils et astuces de Viviane ou Laure-Anne\, vous donnez libre court à vos envies. \nVenez avec votre matériel. Au besoin\, FICA peut vous dépanner de peinture et crayons. \nPartagez ce contenu !
URL:https://atelierfica.org/evenement/peinture-dessin-2/2026-04-23
LOCATION:Local FICA\, 44 rue de Genève\, meximieux\, 01800\, France
CATEGORIES:Peinture & Dessin
ATTACH;FMTTYPE=image/png:https://atelierfica.org/wp-content/uploads/2020/07/mains_peinture.png
END:VEVENT
BEGIN:VEVENT
DTSTART;TZID=Europe/Paris:20260424T120000
DTEND;TZID=Europe/Paris:20260424T140000
DTSTAMP:20260422T162936
CREATED:20251020T092752Z
LAST-MODIFIED:20260320T143651Z
UID:10010587-1777032000-1777039200@atelierfica.org
SUMMARY:Repas partagé
DESCRIPTION:Chaque apporte de quoi partager le repas en simple convivialité ! \nPartagez ce contenu !
URL:https://atelierfica.org/evenement/repas-partage-3/2026-04-24
LOCATION:Local FICA\, 44 rue de Genève\, meximieux\, 01800\, France
ATTACH;FMTTYPE=image/jpeg:https://atelierfica.org/wp-content/uploads/2025/10/IMG-20231228-WA0004.jpg
END:VEVENT
BEGIN:VEVENT
DTSTART;TZID=Europe/Paris:20260424T163000
DTEND;TZID=Europe/Paris:20260424T180000
DTSTAMP:20260422T162936
CREATED:20250829T095137Z
LAST-MODIFIED:20260320T140210Z
UID:10011344-1777048200-1777053600@atelierfica.org
SUMMARY:Coups de pouce scolaire
DESCRIPTION:Si les devoirs sont compliqués\, venez en parler ou même les faire à l’atelier FICA avec Tatiana et Basile ! \nPartagez ce contenu !
URL:https://atelierfica.org/evenement/coups-de-pouce-scolaire-3/2026-04-24
LOCATION:Local FICA\, 44 rue de Genève\, meximieux\, 01800\, France
CATEGORIES:Coup de pouce scolaire,Pédagogies alternatives
ATTACH;FMTTYPE=image/png:https://atelierfica.org/wp-content/uploads/2024/03/21.png
END:VEVENT
BEGIN:VEVENT
DTSTART;TZID=Europe/Paris:20260424T181500
DTEND;TZID=Europe/Paris:20260424T200000
DTSTAMP:20260422T162936
CREATED:20260203T084035Z
LAST-MODIFIED:20260203T084035Z
UID:10010989-1777054500-1777060800@atelierfica.org
SUMMARY:Atelier Musique
DESCRIPTION:Juste pour le plaisir de jouer à plusieurs\, pour ressortir nos instruments\, pour chanter\, pour écouter\, pour essayer de nouveaux instruments… \nInstallation des musiciens et accueil des nouveaux arrivants 18h\, \nLivrets de partitions/chants sur place \nEt en ligne pour s’entrainer : https://atelierfica.org/fiches-ateliers/atelier-musique \nPartagez ce contenu !
URL:https://atelierfica.org/evenement/atelier-musique-35-2/2026-04-24
LOCATION:Local FICA\, 44 rue de Genève\, meximieux\, 01800\, France
CATEGORIES:Musique
ATTACH;FMTTYPE=image/png:https://atelierfica.org/wp-content/uploads/2024/03/18.png
END:VEVENT
BEGIN:VEVENT
DTSTART;TZID=Europe/Paris:20260427T140000
DTEND;TZID=Europe/Paris:20260427T160000
DTSTAMP:20260422T162936
CREATED:20260320T142515Z
LAST-MODIFIED:20260320T143404Z
UID:10011372-1777298400-1777305600@atelierfica.org
SUMMARY:Musicos du lundi
DESCRIPTION:La bulle musicale du lundi\, c’est travailler un morceau de musique en groupe. \nUn morceau travaillé en détail sur plusieurs sessions. \nPartagez ce contenu !
URL:https://atelierfica.org/evenement/bulle-musicale-du-lundi-2/2026-04-27
LOCATION:Local FICA\, 44 rue de Genève\, meximieux\, 01800\, France
CATEGORIES:Musique
ATTACH;FMTTYPE=image/png:https://atelierfica.org/wp-content/uploads/2024/03/18.png
END:VEVENT
BEGIN:VEVENT
DTSTART;TZID=Europe/Paris:20260428T140000
DTEND;TZID=Europe/Paris:20260428T160000
DTSTAMP:20260422T162936
CREATED:20251024T090025Z
LAST-MODIFIED:20260105T155439Z
UID:10010855-1777384800-1777392000@atelierfica.org
SUMMARY:Pause FiKA
DESCRIPTION:Envie de découvrir et d’expérimenter FiKA\, cette tradition scandinave ? \nRendez-vous les mardis entre 14h et 16h 🙂 \nPartagez ce contenu !
URL:https://atelierfica.org/evenement/pause-fika/2026-04-28
LOCATION:Local FICA\, 44 rue de Genève\, meximieux\, 01800\, France
CATEGORIES:Vie associative
ATTACH;FMTTYPE=image/jpeg:https://atelierfica.org/wp-content/uploads/2025/10/Beige-Handmade-Sisters-Photo-Collage-Social-Media.jpg
END:VEVENT
BEGIN:VEVENT
DTSTART;TZID=Europe/Paris:20260428T140000
DTEND;TZID=Europe/Paris:20260428T170000
DTSTAMP:20260422T162936
CREATED:20260207T090537Z
LAST-MODIFIED:20260207T090537Z
UID:10011254-1777384800-1777395600@atelierfica.org
SUMMARY:Atelier cuisine
DESCRIPTION:Proposez vos recettes et devenez le chef du jour ou second du chef pour apprendre avec lui. \nPartagez ce contenu !
URL:https://atelierfica.org/evenement/atelier-cuisine-9/2026-04-28
LOCATION:Local FICA\, 44 rue de Genève\, meximieux\, 01800\, France
CATEGORIES:Ateliers cuisine
ATTACH;FMTTYPE=image/png:https://atelierfica.org/wp-content/uploads/2026/02/Affiche-Atelier-Cuisine-Moderne-Illustre-Vert-Rose-Blanc3.png
END:VEVENT
BEGIN:VEVENT
DTSTART;TZID=Europe/Paris:20260429T120000
DTEND;TZID=Europe/Paris:20260429T140000
DTSTAMP:20260422T162936
CREATED:20260215T101544Z
LAST-MODIFIED:20260320T135639Z
UID:10011329-1777464000-1777471200@atelierfica.org
SUMMARY:La cantine de l'Atelier FICA
DESCRIPTION:Venez déguster le fruit du travail des habitants \n15 places maximum \nParticipation libre conseillée : 4\, 8 ou 12 euros \nPartagez ce contenu !
URL:https://atelierfica.org/evenement/la-cantine-de-latelier-fica/2026-04-29
LOCATION:Local FICA\, 44 rue de Genève\, meximieux\, 01800\, France
ATTACH;FMTTYPE=image/png:https://atelierfica.org/wp-content/uploads/2026/02/Affiche-Atelier-Cuisine-Moderne-Illustre-Vert-Rose-Blanc4.png
END:VEVENT
BEGIN:VEVENT
DTSTART;TZID=Europe/Paris:20260430T140000
DTEND;TZID=Europe/Paris:20260430T163000
DTSTAMP:20260422T162936
CREATED:20260316T075212Z
LAST-MODIFIED:20260320T142436Z
UID:10011360-1777557600-1777566600@atelierfica.org
SUMMARY:Peinture & Dessin
DESCRIPTION:Vous aimez dessiner / peindre ? \nVenez partager un moment créatif et convivial à l’atelier FICA tous les jeudi de 14h à 16h30. \nAmateurs ou experts\, petits et grands…tout le monde est bienvenu. \nSur les conseils et astuces de Viviane ou Laure-Anne\, vous donnez libre court à vos envies. \nVenez avec votre matériel. Au besoin\, FICA peut vous dépanner de peinture et crayons. \nPartagez ce contenu !
URL:https://atelierfica.org/evenement/peinture-dessin-2/2026-04-30
LOCATION:Local FICA\, 44 rue de Genève\, meximieux\, 01800\, France
CATEGORIES:Peinture & Dessin
ATTACH;FMTTYPE=image/png:https://atelierfica.org/wp-content/uploads/2020/07/mains_peinture.png
END:VEVENT
BEGIN:VEVENT
DTSTART;TZID=Europe/Paris:20260430T140000
DTEND;TZID=Europe/Paris:20260430T170000
DTSTAMP:20260422T162936
CREATED:20260327T161411Z
LAST-MODIFIED:20260327T161422Z
UID:10011424-1777557600-1777568400@atelierfica.org
SUMMARY:Atelier Reliure japonaise
DESCRIPTION:Avec Véronique\, \nvenez fabriquer votre carnet en reliure japonaise avec du papier récup’ ou apportez votre papier et fil de luxe ! \net un dé à coudre si vous avez \nPartagez ce contenu !
URL:https://atelierfica.org/evenement/atelier-reliure-japonaise/2026-04-30
LOCATION:Local FICA\, 44 rue de Genève\, meximieux\, 01800\, France
CATEGORIES:CréActivités et récup'
ATTACH;FMTTYPE=image/png:https://atelierfica.org/wp-content/uploads/2026/03/1.png
END:VEVENT
BEGIN:VEVENT
DTSTART;TZID=Europe/Paris:20260501T120000
DTEND;TZID=Europe/Paris:20260501T140000
DTSTAMP:20260422T162936
CREATED:20251020T092752Z
LAST-MODIFIED:20260320T143651Z
UID:10010588-1777636800-1777644000@atelierfica.org
SUMMARY:Repas partagé
DESCRIPTION:Chaque apporte de quoi partager le repas en simple convivialité ! \nPartagez ce contenu !
URL:https://atelierfica.org/evenement/repas-partage-3/2026-05-01
LOCATION:Local FICA\, 44 rue de Genève\, meximieux\, 01800\, France
ATTACH;FMTTYPE=image/jpeg:https://atelierfica.org/wp-content/uploads/2025/10/IMG-20231228-WA0004.jpg
END:VEVENT
BEGIN:VEVENT
DTSTART;TZID=Europe/Paris:20260501T181500
DTEND;TZID=Europe/Paris:20260501T200000
DTSTAMP:20260422T162936
CREATED:20260203T084035Z
LAST-MODIFIED:20260203T084035Z
UID:10010990-1777659300-1777665600@atelierfica.org
SUMMARY:Atelier Musique
DESCRIPTION:Juste pour le plaisir de jouer à plusieurs\, pour ressortir nos instruments\, pour chanter\, pour écouter\, pour essayer de nouveaux instruments… \nInstallation des musiciens et accueil des nouveaux arrivants 18h\, \nLivrets de partitions/chants sur place \nEt en ligne pour s’entrainer : https://atelierfica.org/fiches-ateliers/atelier-musique \nPartagez ce contenu !
URL:https://atelierfica.org/evenement/atelier-musique-35-2/2026-05-01
LOCATION:Local FICA\, 44 rue de Genève\, meximieux\, 01800\, France
CATEGORIES:Musique
ATTACH;FMTTYPE=image/png:https://atelierfica.org/wp-content/uploads/2024/03/18.png
END:VEVENT
BEGIN:VEVENT
DTSTART;TZID=Europe/Paris:20260502T093000
DTEND;TZID=Europe/Paris:20260502T120000
DTSTAMP:20260422T162936
CREATED:20250829T102038Z
LAST-MODIFIED:20260320T145803Z
UID:10011401-1777714200-1777723200@atelierfica.org
SUMMARY:Atelier Tricot & Crochet
DESCRIPTION:Claudine vous propose un moment de partage pour apprendre\, tricoter ou crocheter en discutant. \nPartagez ce contenu !
URL:https://atelierfica.org/evenement/atelier-tricot-crochet/2026-05-02
LOCATION:Local FICA\, 44 rue de Genève\, meximieux\, 01800\, France
CATEGORIES:Tricot-Crochet
ATTACH;FMTTYPE=image/png:https://atelierfica.org/wp-content/uploads/2024/03/32.png
END:VEVENT
BEGIN:VEVENT
DTSTART;TZID=Europe/Paris:20260502T140000
DTEND;TZID=Europe/Paris:20260502T180000
DTSTAMP:20260422T162936
CREATED:20260320T144555Z
LAST-MODIFIED:20260421T071135Z
UID:10011386-1777730400-1777744800@atelierfica.org
SUMMARY:Jeux de rôles
DESCRIPTION:Avec Basile\, \nVenez jouer et découvrir un nouveau monde où votre imagination vous permet de faire votre propre histoire ! \nPartagez ce contenu !
URL:https://atelierfica.org/evenement/jeux-de-roles/2026-05-02
LOCATION:Local FICA\, 44 rue de Genève\, meximieux\, 01800\, France
CATEGORIES:Jeux de roles
ATTACH;FMTTYPE=image/png:https://atelierfica.org/wp-content/uploads/2026/03/Flyer-printemps.png
END:VEVENT
BEGIN:VEVENT
DTSTART;TZID=Europe/Paris:20260504T140000
DTEND;TZID=Europe/Paris:20260504T160000
DTSTAMP:20260422T162936
CREATED:20260320T142515Z
LAST-MODIFIED:20260320T143404Z
UID:10011373-1777903200-1777910400@atelierfica.org
SUMMARY:Musicos du lundi
DESCRIPTION:La bulle musicale du lundi\, c’est travailler un morceau de musique en groupe. \nUn morceau travaillé en détail sur plusieurs sessions. \nPartagez ce contenu !
URL:https://atelierfica.org/evenement/bulle-musicale-du-lundi-2/2026-05-04
LOCATION:Local FICA\, 44 rue de Genève\, meximieux\, 01800\, France
CATEGORIES:Musique
ATTACH;FMTTYPE=image/png:https://atelierfica.org/wp-content/uploads/2024/03/18.png
END:VEVENT
BEGIN:VEVENT
DTSTART;TZID=Europe/Paris:20260505T090000
DTEND;TZID=Europe/Paris:20260505T110000
DTSTAMP:20260422T162936
CREATED:20251219T144049Z
LAST-MODIFIED:20260320T142107Z
UID:10011353-1777971600-1777978800@atelierfica.org
SUMMARY:Café des parents
DESCRIPTION:Soutenir et renforcer les compétences parentales en offrant un espace bienveillant d’échange\, de réflexion et d’apprentissage entre parents\, \nc’est l’esprit du café des parents\, avec l’accueil bienveillant de Marie. \nA la fin de la séance\, vous aurez : \n\nexprimé au moins une expérience personnelle\nidentifié une ressource et un outil à tester à la maison\nrenforcé le lien avec d’autres parents du groupe\n\nPartagez ce contenu !
URL:https://atelierfica.org/evenement/cafe-des-parents/2026-05-05
LOCATION:Local FICA\, 44 rue de Genève\, meximieux\, 01800\, France
CATEGORIES:Parentalité
ATTACH;FMTTYPE=image/png:https://atelierfica.org/wp-content/uploads/2025/12/Affiche-Atelier-Cuisine-Moderne-Illustre-Vert-Rose-Blanc.png
END:VEVENT
BEGIN:VEVENT
DTSTART;TZID=Europe/Paris:20260505T140000
DTEND;TZID=Europe/Paris:20260505T160000
DTSTAMP:20260422T162936
CREATED:20251024T090025Z
LAST-MODIFIED:20260105T155439Z
UID:10010856-1777989600-1777996800@atelierfica.org
SUMMARY:Pause FiKA
DESCRIPTION:Envie de découvrir et d’expérimenter FiKA\, cette tradition scandinave ? \nRendez-vous les mardis entre 14h et 16h 🙂 \nPartagez ce contenu !
URL:https://atelierfica.org/evenement/pause-fika/2026-05-05
LOCATION:Local FICA\, 44 rue de Genève\, meximieux\, 01800\, France
CATEGORIES:Vie associative
ATTACH;FMTTYPE=image/jpeg:https://atelierfica.org/wp-content/uploads/2025/10/Beige-Handmade-Sisters-Photo-Collage-Social-Media.jpg
END:VEVENT
BEGIN:VEVENT
DTSTART;TZID=Europe/Paris:20260505T140000
DTEND;TZID=Europe/Paris:20260505T170000
DTSTAMP:20260422T162936
CREATED:20260207T090537Z
LAST-MODIFIED:20260207T090537Z
UID:10011255-1777989600-1778000400@atelierfica.org
SUMMARY:Atelier cuisine
DESCRIPTION:Proposez vos recettes et devenez le chef du jour ou second du chef pour apprendre avec lui. \nPartagez ce contenu !
URL:https://atelierfica.org/evenement/atelier-cuisine-9/2026-05-05
LOCATION:Local FICA\, 44 rue de Genève\, meximieux\, 01800\, France
CATEGORIES:Ateliers cuisine
ATTACH;FMTTYPE=image/png:https://atelierfica.org/wp-content/uploads/2026/02/Affiche-Atelier-Cuisine-Moderne-Illustre-Vert-Rose-Blanc3.png
END:VEVENT
BEGIN:VEVENT
DTSTART;TZID=Europe/Paris:20260505T183000
DTEND;TZID=Europe/Paris:20260505T193000
DTSTAMP:20260422T162936
CREATED:20260327T164756Z
LAST-MODIFIED:20260327T164835Z
UID:10011434-1778005800-1778009400@atelierfica.org
SUMMARY:Conversation en anglais
DESCRIPTION:Didier vous accompagne pour que l’anglais devienne fluide pour discuter. \nPartagez ce contenu !
URL:https://atelierfica.org/evenement/conversation-en-anglais/2026-05-05
LOCATION:Local FICA\, 44 rue de Genève\, meximieux\, 01800\, France
CATEGORIES:Conversation en anglais
ATTACH;FMTTYPE=image/png:https://atelierfica.org/wp-content/uploads/2024/12/cercles-de-discussions.png
END:VEVENT
BEGIN:VEVENT
DTSTART;TZID=Europe/Paris:20260506T120000
DTEND;TZID=Europe/Paris:20260506T140000
DTSTAMP:20260422T162936
CREATED:20260215T101544Z
LAST-MODIFIED:20260320T135639Z
UID:10011330-1778068800-1778076000@atelierfica.org
SUMMARY:La cantine de l'Atelier FICA
DESCRIPTION:Venez déguster le fruit du travail des habitants \n15 places maximum \nParticipation libre conseillée : 4\, 8 ou 12 euros \nPartagez ce contenu !
URL:https://atelierfica.org/evenement/la-cantine-de-latelier-fica/2026-05-06
LOCATION:Local FICA\, 44 rue de Genève\, meximieux\, 01800\, France
ATTACH;FMTTYPE=image/png:https://atelierfica.org/wp-content/uploads/2026/02/Affiche-Atelier-Cuisine-Moderne-Illustre-Vert-Rose-Blanc4.png
END:VEVENT
BEGIN:VEVENT
DTSTART;TZID=Europe/Paris:20260507T140000
DTEND;TZID=Europe/Paris:20260507T163000
DTSTAMP:20260422T162936
CREATED:20260316T075212Z
LAST-MODIFIED:20260320T142436Z
UID:10011361-1778162400-1778171400@atelierfica.org
SUMMARY:Peinture & Dessin
DESCRIPTION:Vous aimez dessiner / peindre ? \nVenez partager un moment créatif et convivial à l’atelier FICA tous les jeudi de 14h à 16h30. \nAmateurs ou experts\, petits et grands…tout le monde est bienvenu. \nSur les conseils et astuces de Viviane ou Laure-Anne\, vous donnez libre court à vos envies. \nVenez avec votre matériel. Au besoin\, FICA peut vous dépanner de peinture et crayons. \nPartagez ce contenu !
URL:https://atelierfica.org/evenement/peinture-dessin-2/2026-05-07
LOCATION:Local FICA\, 44 rue de Genève\, meximieux\, 01800\, France
CATEGORIES:Peinture & Dessin
ATTACH;FMTTYPE=image/png:https://atelierfica.org/wp-content/uploads/2020/07/mains_peinture.png
END:VEVENT
BEGIN:VEVENT
DTSTART;TZID=Europe/Paris:20260508T120000
DTEND;TZID=Europe/Paris:20260508T140000
DTSTAMP:20260422T162936
CREATED:20251020T092752Z
LAST-MODIFIED:20260320T143651Z
UID:10010589-1778241600-1778248800@atelierfica.org
SUMMARY:Repas partagé
DESCRIPTION:Chaque apporte de quoi partager le repas en simple convivialité ! \nPartagez ce contenu !
URL:https://atelierfica.org/evenement/repas-partage-3/2026-05-08
LOCATION:Local FICA\, 44 rue de Genève\, meximieux\, 01800\, France
ATTACH;FMTTYPE=image/jpeg:https://atelierfica.org/wp-content/uploads/2025/10/IMG-20231228-WA0004.jpg
END:VEVENT
BEGIN:VEVENT
DTSTART;TZID=Europe/Paris:20260508T181500
DTEND;TZID=Europe/Paris:20260508T200000
DTSTAMP:20260422T162936
CREATED:20260203T084035Z
LAST-MODIFIED:20260203T084035Z
UID:10010991-1778264100-1778270400@atelierfica.org
SUMMARY:Atelier Musique
DESCRIPTION:Juste pour le plaisir de jouer à plusieurs\, pour ressortir nos instruments\, pour chanter\, pour écouter\, pour essayer de nouveaux instruments… \nInstallation des musiciens et accueil des nouveaux arrivants 18h\, \nLivrets de partitions/chants sur place \nEt en ligne pour s’entrainer : https://atelierfica.org/fiches-ateliers/atelier-musique \nPartagez ce contenu !
URL:https://atelierfica.org/evenement/atelier-musique-35-2/2026-05-08
LOCATION:Local FICA\, 44 rue de Genève\, meximieux\, 01800\, France
CATEGORIES:Musique
ATTACH;FMTTYPE=image/png:https://atelierfica.org/wp-content/uploads/2024/03/18.png
END:VEVENT
BEGIN:VEVENT
DTSTART;TZID=Europe/Paris:20260511T140000
DTEND;TZID=Europe/Paris:20260511T160000
DTSTAMP:20260422T162936
CREATED:20260320T142515Z
LAST-MODIFIED:20260320T143404Z
UID:10011374-1778508000-1778515200@atelierfica.org
SUMMARY:Musicos du lundi
DESCRIPTION:La bulle musicale du lundi\, c’est travailler un morceau de musique en groupe. \nUn morceau travaillé en détail sur plusieurs sessions. \nPartagez ce contenu !
URL:https://atelierfica.org/evenement/bulle-musicale-du-lundi-2/2026-05-11
LOCATION:Local FICA\, 44 rue de Genève\, meximieux\, 01800\, France
CATEGORIES:Musique
ATTACH;FMTTYPE=image/png:https://atelierfica.org/wp-content/uploads/2024/03/18.png
END:VEVENT
BEGIN:VEVENT
DTSTART;TZID=Europe/Paris:20260512T140000
DTEND;TZID=Europe/Paris:20260512T160000
DTSTAMP:20260422T162936
CREATED:20251024T090025Z
LAST-MODIFIED:20260105T155439Z
UID:10010857-1778594400-1778601600@atelierfica.org
SUMMARY:Pause FiKA
DESCRIPTION:Envie de découvrir et d’expérimenter FiKA\, cette tradition scandinave ? \nRendez-vous les mardis entre 14h et 16h 🙂 \nPartagez ce contenu !
URL:https://atelierfica.org/evenement/pause-fika/2026-05-12
LOCATION:Local FICA\, 44 rue de Genève\, meximieux\, 01800\, France
CATEGORIES:Vie associative
ATTACH;FMTTYPE=image/jpeg:https://atelierfica.org/wp-content/uploads/2025/10/Beige-Handmade-Sisters-Photo-Collage-Social-Media.jpg
END:VEVENT
BEGIN:VEVENT
DTSTART;TZID=Europe/Paris:20260512T140000
DTEND;TZID=Europe/Paris:20260512T170000
DTSTAMP:20260422T162936
CREATED:20260207T090537Z
LAST-MODIFIED:20260207T090537Z
UID:10011256-1778594400-1778605200@atelierfica.org
SUMMARY:Atelier cuisine
DESCRIPTION:Proposez vos recettes et devenez le chef du jour ou second du chef pour apprendre avec lui. \nPartagez ce contenu !
URL:https://atelierfica.org/evenement/atelier-cuisine-9/2026-05-12
LOCATION:Local FICA\, 44 rue de Genève\, meximieux\, 01800\, France
CATEGORIES:Ateliers cuisine
ATTACH;FMTTYPE=image/png:https://atelierfica.org/wp-content/uploads/2026/02/Affiche-Atelier-Cuisine-Moderne-Illustre-Vert-Rose-Blanc3.png
END:VEVENT
BEGIN:VEVENT
DTSTART;TZID=Europe/Paris:20260512T183000
DTEND;TZID=Europe/Paris:20260512T203000
DTSTAMP:20260422T162936
CREATED:20260207T091202Z
LAST-MODIFIED:20260330T082646Z
UID:10011318-1778610600-1778617800@atelierfica.org
SUMMARY:Atelier Contes (pour adultes)
DESCRIPTION:Animé par la Colporteuse de mots \n\n\n\nDans cet atelier\, aucun pré-requis\, si ce n’est l’envie de raconter des histoires et peut-être d’en créer aussi !\nArts de la parole\, mime\, improvisation et écriture nous accompagneront au cours de cette année pour vous permettre de découvrir vos talents cachés ou d’affiner des compétences déjà acquises.\n\nRenseignements et inscription au 06.20.62.35.41 \n\n\nPartagez ce contenu !
URL:https://atelierfica.org/evenement/atelier-contes-pour-adultes/2026-05-12
LOCATION:Local FICA\, 44 rue de Genève\, meximieux\, 01800\, France
CATEGORIES:Contes et histoires
ATTACH;FMTTYPE=image/png:https://atelierfica.org/wp-content/uploads/2026/02/Publication-Instagram-Atelier-de-peinture-Paques-Aquarelle-Rose3-e1774017563319.png
END:VEVENT
BEGIN:VEVENT
DTSTART;TZID=Europe/Paris:20260513T120000
DTEND;TZID=Europe/Paris:20260513T140000
DTSTAMP:20260422T162936
CREATED:20260215T101544Z
LAST-MODIFIED:20260320T135639Z
UID:10011331-1778673600-1778680800@atelierfica.org
SUMMARY:La cantine de l'Atelier FICA
DESCRIPTION:Venez déguster le fruit du travail des habitants \n15 places maximum \nParticipation libre conseillée : 4\, 8 ou 12 euros \nPartagez ce contenu !
URL:https://atelierfica.org/evenement/la-cantine-de-latelier-fica/2026-05-13
LOCATION:Local FICA\, 44 rue de Genève\, meximieux\, 01800\, France
ATTACH;FMTTYPE=image/png:https://atelierfica.org/wp-content/uploads/2026/02/Affiche-Atelier-Cuisine-Moderne-Illustre-Vert-Rose-Blanc4.png
END:VEVENT
BEGIN:VEVENT
DTSTART;TZID=Europe/Paris:20260514T140000
DTEND;TZID=Europe/Paris:20260514T163000
DTSTAMP:20260422T162936
CREATED:20260316T075212Z
LAST-MODIFIED:20260320T142436Z
UID:10011362-1778767200-1778776200@atelierfica.org
SUMMARY:Peinture & Dessin
DESCRIPTION:Vous aimez dessiner / peindre ? \nVenez partager un moment créatif et convivial à l’atelier FICA tous les jeudi de 14h à 16h30. \nAmateurs ou experts\, petits et grands…tout le monde est bienvenu. \nSur les conseils et astuces de Viviane ou Laure-Anne\, vous donnez libre court à vos envies. \nVenez avec votre matériel. Au besoin\, FICA peut vous dépanner de peinture et crayons. \nPartagez ce contenu !
URL:https://atelierfica.org/evenement/peinture-dessin-2/2026-05-14
LOCATION:Local FICA\, 44 rue de Genève\, meximieux\, 01800\, France
CATEGORIES:Peinture & Dessin
ATTACH;FMTTYPE=image/png:https://atelierfica.org/wp-content/uploads/2020/07/mains_peinture.png
END:VEVENT
BEGIN:VEVENT
DTSTART;TZID=Europe/Paris:20260515T120000
DTEND;TZID=Europe/Paris:20260515T140000
DTSTAMP:20260422T162936
CREATED:20251020T092752Z
LAST-MODIFIED:20260320T143651Z
UID:10010590-1778846400-1778853600@atelierfica.org
SUMMARY:Repas partagé
DESCRIPTION:Chaque apporte de quoi partager le repas en simple convivialité ! \nPartagez ce contenu !
URL:https://atelierfica.org/evenement/repas-partage-3/2026-05-15
LOCATION:Local FICA\, 44 rue de Genève\, meximieux\, 01800\, France
ATTACH;FMTTYPE=image/jpeg:https://atelierfica.org/wp-content/uploads/2025/10/IMG-20231228-WA0004.jpg
END:VEVENT
END:VCALENDAR