BEGIN:VCALENDAR
VERSION:2.0
PRODID:-//L&#039;atelier FICA - ECPv6.15.20//NONSGML v1.0//EN
CALSCALE:GREGORIAN
METHOD:PUBLISH
X-ORIGINAL-URL:https://atelierfica.org
X-WR-CALDESC:Évènements pour L&#039;atelier FICA
REFRESH-INTERVAL;VALUE=DURATION:PT1H
X-Robots-Tag:noindex
X-PUBLISHED-TTL:PT1H
BEGIN:VTIMEZONE
TZID:Europe/Paris
BEGIN:DAYLIGHT
TZOFFSETFROM:+0100
TZOFFSETTO:+0200
TZNAME:CEST
DTSTART:20200329T010000
END:DAYLIGHT
BEGIN:STANDARD
TZOFFSETFROM:+0200
TZOFFSETTO:+0100
TZNAME:CET
DTSTART:20201025T010000
END:STANDARD
BEGIN:DAYLIGHT
TZOFFSETFROM:+0100
TZOFFSETTO:+0200
TZNAME:CEST
DTSTART:20210328T010000
END:DAYLIGHT
BEGIN:STANDARD
TZOFFSETFROM:+0200
TZOFFSETTO:+0100
TZNAME:CET
DTSTART:20211031T010000
END:STANDARD
BEGIN:DAYLIGHT
TZOFFSETFROM:+0100
TZOFFSETTO:+0200
TZNAME:CEST
DTSTART:20220327T010000
END:DAYLIGHT
BEGIN:STANDARD
TZOFFSETFROM:+0200
TZOFFSETTO:+0100
TZNAME:CET
DTSTART:20221030T010000
END:STANDARD
END:VTIMEZONE
BEGIN:VEVENT
DTSTART;TZID=Europe/Paris:20211222T143000
DTEND;TZID=Europe/Paris:20211222T173000
DTSTAMP:20260426T041951
CREATED:20211125T155634Z
LAST-MODIFIED:20211125T155634Z
UID:10004040-1640183400-1640194200@atelierfica.org
SUMMARY:Atelier Cuisine sans cuisson
DESCRIPTION:Atelier cuisine de Noël sans cuisson \nPartagez ce contenu !
URL:https://atelierfica.org/evenement/atelier-cuisine-sans-cuisson
LOCATION:Salle pour tous\, Mollon
CATEGORIES:Ateliers cuisine
ATTACH;FMTTYPE=image/png:https://atelierfica.org/wp-content/uploads/2021/11/Copie-de-Copie-de-juillet-202116.png
END:VEVENT
BEGIN:VEVENT
DTSTART;TZID=Europe/Paris:20211218T093000
DTEND;TZID=Europe/Paris:20211218T123000
DTSTAMP:20260426T041951
CREATED:20211125T155501Z
LAST-MODIFIED:20211125T155501Z
UID:10004038-1639819800-1639830600@atelierfica.org
SUMMARY:Atelier Couture - Emballage de Noël
DESCRIPTION:Cette année\, on expérimente l’emballage des cadeaux avec de beaux tissus ! \nOriginaire du Japon\, l’art du Furoshiki consiste à emballer ses cadeaux dans du tissu en utilisant des techniques de nouages et de pliages très précises. Il était à l’origine utilisé pour transporter des objets\, ou pour ensuite parfois être offert. \nTout le tissu est à disposition sur place\, venez tester ! \nPartagez ce contenu !
URL:https://atelierfica.org/evenement/atelier-couture-emballage-de-noel
LOCATION:Salle pour tous\, Mollon
CATEGORIES:Couture
ATTACH;FMTTYPE=image/png:https://atelierfica.org/wp-content/uploads/2021/11/Copie-de-Copie-de-juillet-202118.png
END:VEVENT
BEGIN:VEVENT
DTSTART;TZID=Europe/Paris:20211208T143000
DTEND;TZID=Europe/Paris:20211208T173000
DTSTAMP:20260426T041951
CREATED:20211125T155807Z
LAST-MODIFIED:20211125T155807Z
UID:10004042-1638973800-1638984600@atelierfica.org
SUMMARY:Atelier photophores et lumignons
DESCRIPTION:Préparation de la fête des lumières \nPartagez ce contenu !
URL:https://atelierfica.org/evenement/atelier-photophores-et-lumignons
LOCATION:Salle pour tous\, Mollon
CATEGORIES:CréActivités et récup'
ATTACH;FMTTYPE=image/png:https://atelierfica.org/wp-content/uploads/2021/11/Copie-de-Copie-de-juillet-202117.png
END:VEVENT
BEGIN:VEVENT
DTSTART;TZID=Europe/Paris:20211124T143000
DTEND;TZID=Europe/Paris:20211124T163000
DTSTAMP:20260426T041951
CREATED:20211105T133024Z
LAST-MODIFIED:20211105T165242Z
UID:10002917-1637764200-1637771400@atelierfica.org
SUMMARY:Atelier Bien-être
DESCRIPTION:Prévenir les maux d’hiver : Baume\, huiles essentielles\, plantes médicinales \nPartagez ce contenu !
URL:https://atelierfica.org/evenement/atelier-bien-etre
LOCATION:Salle pour tous\, Mollon
ATTACH;FMTTYPE=image/png:https://atelierfica.org/wp-content/uploads/2021/11/Copie-de-Copie-de-juillet-202113.png
END:VEVENT
BEGIN:VEVENT
DTSTART;TZID=Europe/Paris:20211120T093000
DTEND;TZID=Europe/Paris:20211120T120000
DTSTAMP:20260426T041951
CREATED:20211105T131434Z
LAST-MODIFIED:20211105T131434Z
UID:10002914-1637400600-1637409600@atelierfica.org
SUMMARY:Atelier Zéro-déchet
DESCRIPTION:Partagez ce contenu !
URL:https://atelierfica.org/evenement/atelier-zero-dechet-3
LOCATION:Salle pour tous\, Mollon
CATEGORIES:ATELIERS ZÉRO DÉCHET
ATTACH;FMTTYPE=image/png:https://atelierfica.org/wp-content/uploads/2021/11/Copie-de-Copie-de-juillet-202110.png
END:VEVENT
BEGIN:VEVENT
DTSTART;TZID=Europe/Paris:20211110T143000
DTEND;TZID=Europe/Paris:20211110T163000
DTSTAMP:20260426T041951
CREATED:20211105T131041Z
LAST-MODIFIED:20211105T165119Z
UID:10002912-1636554600-1636561800@atelierfica.org
SUMMARY:ZD Beewrap et Tawashi
DESCRIPTION:Partagez ce contenu !
URL:https://atelierfica.org/evenement/zd-beewrap-et-tawashi
LOCATION:Salle pour tous\, Mollon
CATEGORIES:ATELIERS ZÉRO DÉCHET
ATTACH;FMTTYPE=image/png:https://atelierfica.org/wp-content/uploads/2021/11/Copie-de-Copie-de-juillet-20219.png
END:VEVENT
BEGIN:VEVENT
DTSTART;TZID=Europe/Paris:20211110T093000
DTEND;TZID=Europe/Paris:20211110T120000
DTSTAMP:20260426T041951
CREATED:20211105T133417Z
LAST-MODIFIED:20211105T133417Z
UID:10002919-1636536600-1636545600@atelierfica.org
SUMMARY:Atelier créatif pour les enfants
DESCRIPTION:Partagez ce contenu !
URL:https://atelierfica.org/evenement/atelier-creatif-pour-les-enfants
LOCATION:Salle pour tous\, Mollon
CATEGORIES:CréActivités et récup'
ATTACH;FMTTYPE=image/png:https://atelierfica.org/wp-content/uploads/2021/11/Copie-de-Copie-de-juillet-202114.png
END:VEVENT
END:VCALENDAR